
      BEGIN:VCALENDAR
VERSION:2.0
PRODID:-//www.nextti.com//iCal event plugin
X-WR-CALNAME:inSchuytgraaf
CALSCALE:GREGORIAN
BEGIN:VTIMEZONE
TZID:Europe/Berlin
TZURL:http://tzurl.org/zoneinfo-outlook/Europe/Berlin
X-LIC-LOCATION:Europe/Berlin
BEGIN:DAYLIGHT
TZOFFSETFROM:+0100
TZOFFSETTO:+0200
TZNAME:CEST
DTSTART:19700329T020000
RRULE:FREQ=YEARLY;BYMONTH=3;BYDAY=-1SU
END:DAYLIGHT
BEGIN:STANDARD
TZOFFSETFROM:+0200
TZOFFSETTO:+0100
TZNAME:CET
DTSTART:19701025T030000
RRULE:FREQ=YEARLY;BYMONTH=10;BYDAY=-1SU
END:STANDARD
END:VTIMEZONE
BEGIN:VEVENT
DTSTAMP:20260424T170226
UID:inSchuytgraaf-16730
DTSTART;TZID=Europe/Berlin:19700101T000000
DTEND;TZID=Europe/Berlin:19700101T000000
SUMMARY:Openluchtbijeenkomst &#8220;Verwacht een Wonder&#8221;
URL:https://www.inschuytgraaf.nl/evenementen/openluchtbijeenkomst-verwacht-een-wonder/
DESCRIPTION:&#8220;Verwacht een wonder&#8221; organiseert in samenwerking met &#8220;Evangeliegemeente De Deur&#8221;  een openluchtbijeenkomst. Het is voor iedereen toegankelijk. Het motto is: &#8220;Ben je ziek of heb je en andere nood? Kom en zie wat God voor je kan doen&#8221;. De bijeenkomst vindt plaats op de Hollandweg aan de achterzijde van de Jumbo. De datum is 7 [&hellip;]
LOCATION:Hollandweg, nabij Winkelcentrum Elderveld, achterzijde Jumbo.
BEGIN:VALARM
ACTION:DISPLAY
DESCRIPTION:Openluchtbijeenkomst &#8220;Verwacht een Wonder&#8221;
TRIGGER:-P1D
END:VALARM
END:VEVENT
END:VCALENDAR